BEGIN:VCALENDAR
VERSION:2.0
PRODID:-//The Orthodox Christian Parish of St Barbara, Chester, UK - ECPv6.15.20//NONSGML v1.0//EN
CALSCALE:GREGORIAN
METHOD:PUBLISH
X-WR-CALNAME:The Orthodox Christian Parish of St Barbara, Chester, UK
X-ORIGINAL-URL:https://www.stbarbara.org.uk
X-WR-CALDESC:Events for The Orthodox Christian Parish of St Barbara, Chester, UK
REFRESH-INTERVAL;VALUE=DURATION:PT1H
X-Robots-Tag:noindex
X-PUBLISHED-TTL:PT1H
BEGIN:VTIMEZONE
TZID:Europe/London
BEGIN:DAYLIGHT
TZOFFSETFROM:+0000
TZOFFSETTO:+0100
TZNAME:BST
DTSTART:20250330T010000
END:DAYLIGHT
BEGIN:STANDARD
TZOFFSETFROM:+0100
TZOFFSETTO:+0000
TZNAME:GMT
DTSTART:20251026T010000
END:STANDARD
BEGIN:DAYLIGHT
TZOFFSETFROM:+0000
TZOFFSETTO:+0100
TZNAME:BST
DTSTART:20260329T010000
END:DAYLIGHT
BEGIN:STANDARD
TZOFFSETFROM:+0100
TZOFFSETTO:+0000
TZNAME:GMT
DTSTART:20261025T010000
END:STANDARD
BEGIN:DAYLIGHT
TZOFFSETFROM:+0000
TZOFFSETTO:+0100
TZNAME:BST
DTSTART:20270328T010000
END:DAYLIGHT
BEGIN:STANDARD
TZOFFSETFROM:+0100
TZOFFSETTO:+0000
TZNAME:GMT
DTSTART:20271031T010000
END:STANDARD
END:VTIMEZONE
BEGIN:VEVENT
DTSTART;TZID=Europe/London:20260207T173000
DTEND;TZID=Europe/London:20260207T173000
DTSTAMP:20260425T153009
CREATED:20260201T085057Z
LAST-MODIFIED:20260201T085057Z
UID:18322-1770485400-1770485400@www.stbarbara.org.uk
SUMMARY:5.30pm\, Great Vespers\, Great Martyr Theodore Stratelates
DESCRIPTION:
URL:https://www.stbarbara.org.uk/event/5-30pm-great-vespers-great-martyr-theodore-stratelates/
LOCATION:Saint Barbara the Great Martyr Orthodox Church\, Chester\, CH4 7HW\, United Kingdom
CATEGORIES:Services
ATTACH;FMTTYPE=image/png:https://www.stbarbara.org.uk/wp-content/uploads/2026/02/Great-Martyr-Theodore-Stratelates.png
END:VEVENT
BEGIN:VEVENT
DTSTART;TZID=Europe/London:20260204T191500
DTEND;TZID=Europe/London:20260204T191500
DTSTAMP:20260425T153009
CREATED:20260201T084706Z
LAST-MODIFIED:20260201T084706Z
UID:18320-1770232500-1770232500@www.stbarbara.org.uk
SUMMARY:7:15 pm\, Catechesis\, All are welcome!
DESCRIPTION:
URL:https://www.stbarbara.org.uk/event/715-pm-catechesis-all-are-welcome-3/
LOCATION:Saint Barbara the Great Martyr Orthodox Church\, Chester\, CH4 7HW\, United Kingdom
CATEGORIES:Services
ATTACH;FMTTYPE=image/jpeg:https://www.stbarbara.org.uk/wp-content/uploads/2024/12/Catechism.jpg
END:VEVENT
BEGIN:VEVENT
DTSTART;TZID=Europe/London:20260204T183000
DTEND;TZID=Europe/London:20260204T183000
DTSTAMP:20260425T153009
CREATED:20260201T084600Z
LAST-MODIFIED:20260201T084600Z
UID:18317-1770229800-1770229800@www.stbarbara.org.uk
SUMMARY:6:30 pm\, Vespers\,Martyr Agatha
DESCRIPTION:
URL:https://www.stbarbara.org.uk/event/630-pm-vespersmartyr-agatha/
LOCATION:Saint Barbara the Great Martyr Orthodox Church\, Chester\, CH4 7HW\, United Kingdom
CATEGORIES:Services
ATTACH;FMTTYPE=image/jpeg:https://www.stbarbara.org.uk/wp-content/uploads/2026/02/Martyr-Agatha.jpg
END:VEVENT
BEGIN:VEVENT
DTSTART;TZID=Europe/London:20260201T180000
DTEND;TZID=Europe/London:20260201T180000
DTSTAMP:20260425T153009
CREATED:20260201T084053Z
LAST-MODIFIED:20260201T084259Z
UID:18313-1769968800-1769968800@www.stbarbara.org.uk
SUMMARY:6:00PM\, Great Vespers\, Presentation of the Lord
DESCRIPTION:
URL:https://www.stbarbara.org.uk/event/1000-am-matins-sunday-of-the-publican-and-pharisee/
LOCATION:Saint Barbara the Great Martyr Orthodox Church\, Chester\, CH4 7HW\, United Kingdom
CATEGORIES:Services
ATTACH;FMTTYPE=image/jpeg:https://www.stbarbara.org.uk/wp-content/uploads/2025/01/Presentation-of-Our-Lord-in-the-Temple.jpg
END:VEVENT
BEGIN:VEVENT
DTSTART;TZID=Europe/London:20260201T110000
DTEND;TZID=Europe/London:20260201T110000
DTSTAMP:20260425T153009
CREATED:20260110T150421Z
LAST-MODIFIED:20260110T150421Z
UID:18307-1769943600-1769943600@www.stbarbara.org.uk
SUMMARY:11:00am\, Divine Liturgy\, Sunday of the Publican and Pharisee
DESCRIPTION:
URL:https://www.stbarbara.org.uk/event/1100am-divine-liturgy-sunday-of-the-publican-and-pharisee-2/
LOCATION:Saint Barbara the Great Martyr Orthodox Church\, Chester\, CH4 7HW\, United Kingdom
CATEGORIES:Services
ATTACH;FMTTYPE=image/png:https://www.stbarbara.org.uk/wp-content/uploads/2024/11/Divine-Liturgy.png
END:VEVENT
BEGIN:VEVENT
DTSTART;TZID=Europe/London:20260201T100000
DTEND;TZID=Europe/London:20260201T100000
DTSTAMP:20260425T153009
CREATED:20260110T150152Z
LAST-MODIFIED:20260110T150152Z
UID:18303-1769940000-1769940000@www.stbarbara.org.uk
SUMMARY:10:00 am\, Matins
DESCRIPTION:
URL:https://www.stbarbara.org.uk/event/1000-am-matins-4/
LOCATION:Saint Barbara the Great Martyr Orthodox Church\, Chester\, CH4 7HW\, United Kingdom
CATEGORIES:Services
ATTACH;FMTTYPE=image/webp:https://www.stbarbara.org.uk/wp-content/uploads/2026/01/Sunday-of-the-Publican-and-Pharisee.jpg.webp
END:VEVENT
BEGIN:VEVENT
DTSTART;TZID=Europe/London:20260131T183000
DTEND;TZID=Europe/London:20260131T183000
DTSTAMP:20260425T153009
CREATED:20260110T145536Z
LAST-MODIFIED:20260110T145611Z
UID:18297-1769884200-1769884200@www.stbarbara.org.uk
SUMMARY:6:30PM\, Great Vespers\,Triodion
DESCRIPTION:
URL:https://www.stbarbara.org.uk/event/630pm-great-vespers-triodion-begins/
LOCATION:Saint Barbara the Great Martyr Orthodox Church\, Chester\, CH4 7HW\, United Kingdom
CATEGORIES:Services
ATTACH;FMTTYPE=image/png:https://www.stbarbara.org.uk/wp-content/uploads/2026/01/Triodion.png
END:VEVENT
BEGIN:VEVENT
DTSTART;VALUE=DATE:20260131
DTEND;VALUE=DATE:20260201
DTSTAMP:20260425T153009
CREATED:20260110T145640Z
LAST-MODIFIED:20260110T145704Z
UID:18301-1769817600-1769903999@www.stbarbara.org.uk
SUMMARY:Triodion Begins
DESCRIPTION:
URL:https://www.stbarbara.org.uk/event/triodion-begins/
LOCATION:Saint Barbara the Great Martyr Orthodox Church\, Chester\, CH4 7HW\, United Kingdom
CATEGORIES:Services
ATTACH;FMTTYPE=image/png:https://www.stbarbara.org.uk/wp-content/uploads/2026/01/Triodion.png
END:VEVENT
BEGIN:VEVENT
DTSTART;TZID=Europe/London:20260130T100000
DTEND;TZID=Europe/London:20260130T100000
DTSTAMP:20260425T153009
CREATED:20260110T145146Z
LAST-MODIFIED:20260110T145146Z
UID:18295-1769767200-1769767200@www.stbarbara.org.uk
SUMMARY:11:00am\, Divine Liturgy
DESCRIPTION:
URL:https://www.stbarbara.org.uk/event/1100am-divine-liturgy-21/
LOCATION:Saint Barbara the Great Martyr Orthodox Church\, Chester\, CH4 7HW\, United Kingdom
CATEGORIES:Services
ATTACH;FMTTYPE=image/png:https://www.stbarbara.org.uk/wp-content/uploads/2024/11/Divine-Liturgy.png
END:VEVENT
BEGIN:VEVENT
DTSTART;TZID=Europe/London:20260130T090000
DTEND;TZID=Europe/London:20260130T090000
DTSTAMP:20260425T153009
CREATED:20260110T145048Z
LAST-MODIFIED:20260110T145048Z
UID:18293-1769763600-1769763600@www.stbarbara.org.uk
SUMMARY:9.00am\, Matins\, The Three Hierarchs
DESCRIPTION:
URL:https://www.stbarbara.org.uk/event/9-00am-matins-the-three-hierarchs/
LOCATION:Saint Barbara the Great Martyr Orthodox Church\, Chester\, CH4 7HW\, United Kingdom
CATEGORIES:Services
ATTACH;FMTTYPE=image/jpeg:https://www.stbarbara.org.uk/wp-content/uploads/2026/01/Synaxis-of-the-Three-Hierarchs.jpg
END:VEVENT
BEGIN:VEVENT
DTSTART;TZID=Europe/London:20260129T183000
DTEND;TZID=Europe/London:20260129T183000
DTSTAMP:20260425T153009
CREATED:20260110T144920Z
LAST-MODIFIED:20260110T144920Z
UID:18290-1769711400-1769711400@www.stbarbara.org.uk
SUMMARY:6:30 pm\, Great Vespers\, Great Vespers Synaxis of the Three Hierarchs
DESCRIPTION:
URL:https://www.stbarbara.org.uk/event/630-pm-great-vespers-great-vespers-synaxis-of-the-three-hierarchs/
LOCATION:Saint Barbara the Great Martyr Orthodox Church\, Chester\, CH4 7HW\, United Kingdom
CATEGORIES:Services
ATTACH;FMTTYPE=image/jpeg:https://www.stbarbara.org.uk/wp-content/uploads/2026/01/Synaxis-of-the-Three-Hierarchs.jpg
END:VEVENT
BEGIN:VEVENT
DTSTART;TZID=Europe/London:20260128T191500
DTEND;TZID=Europe/London:20260128T191500
DTSTAMP:20260425T153009
CREATED:20260110T144508Z
LAST-MODIFIED:20260110T144508Z
UID:18287-1769627700-1769627700@www.stbarbara.org.uk
SUMMARY:7:15 pm\, Catechesis\, All are welcome!
DESCRIPTION:
URL:https://www.stbarbara.org.uk/event/715-pm-catechesis-all-are-welcome-2/
LOCATION:Saint Barbara the Great Martyr Orthodox Church\, Chester\, CH4 7HW\, United Kingdom
CATEGORIES:Services
ATTACH;FMTTYPE=image/jpeg:https://www.stbarbara.org.uk/wp-content/uploads/2024/12/Catechism.jpg
END:VEVENT
BEGIN:VEVENT
DTSTART;TZID=Europe/London:20260128T183000
DTEND;TZID=Europe/London:20260128T183000
DTSTAMP:20260425T153009
CREATED:20260110T144334Z
LAST-MODIFIED:20260110T144345Z
UID:18284-1769625000-1769625000@www.stbarbara.org.uk
SUMMARY:6:30 pm\, Vespers\, Removal of the relics of St. Ignatius the God Bearer
DESCRIPTION:
URL:https://www.stbarbara.org.uk/event/630-pm-vespers-removal-of-the-relics-of-st-ignatius-the-god-bearer/
LOCATION:Saint Barbara the Great Martyr Orthodox Church\, Chester\, CH4 7HW\, United Kingdom
CATEGORIES:Services
ATTACH;FMTTYPE=image/jpeg:https://www.stbarbara.org.uk/wp-content/uploads/2026/01/Removal-of-the-relics-of-St.-Ignatius-the-God-Bearer.jpg
END:VEVENT
BEGIN:VEVENT
DTSTART;TZID=Europe/London:20260125T110000
DTEND;TZID=Europe/London:20260125T110000
DTSTAMP:20260425T153009
CREATED:20260110T144110Z
LAST-MODIFIED:20260110T144110Z
UID:18282-1769338800-1769338800@www.stbarbara.org.uk
SUMMARY:11:00am\, Divine Liturgy
DESCRIPTION:
URL:https://www.stbarbara.org.uk/event/1100am-divine-liturgy-20/
LOCATION:Saint Barbara the Great Martyr Orthodox Church\, Chester\, CH4 7HW\, United Kingdom
CATEGORIES:Services
ATTACH;FMTTYPE=image/png:https://www.stbarbara.org.uk/wp-content/uploads/2024/11/Divine-Liturgy.png
END:VEVENT
BEGIN:VEVENT
DTSTART;TZID=Europe/London:20260125T100000
DTEND;TZID=Europe/London:20260125T100000
DTSTAMP:20260425T153009
CREATED:20260110T143959Z
LAST-MODIFIED:20260110T143959Z
UID:18280-1769335200-1769335200@www.stbarbara.org.uk
SUMMARY:10:00 am\, Matins
DESCRIPTION:
URL:https://www.stbarbara.org.uk/event/1000-am-matins-3/
LOCATION:Saint Barbara the Great Martyr Orthodox Church\, Chester\, CH4 7HW\, United Kingdom
CATEGORIES:Services
ATTACH;FMTTYPE=image/jpeg:https://www.stbarbara.org.uk/wp-content/uploads/2024/01/gregory-the-theologian.jpeg
END:VEVENT
BEGIN:VEVENT
DTSTART;TZID=Europe/London:20260124T173000
DTEND;TZID=Europe/London:20260124T173000
DTSTAMP:20260425T153009
CREATED:20260110T143853Z
LAST-MODIFIED:20260110T143853Z
UID:18278-1769275800-1769275800@www.stbarbara.org.uk
SUMMARY:5:30PM\, Great Vespers\, St. Gregory the Theologian
DESCRIPTION:
URL:https://www.stbarbara.org.uk/event/530pm-great-vespers-st-gregory-the-theologian/
LOCATION:Saint Barbara the Great Martyr Orthodox Church\, Chester\, CH4 7HW\, United Kingdom
CATEGORIES:Services
ATTACH;FMTTYPE=image/jpeg:https://www.stbarbara.org.uk/wp-content/uploads/2024/01/gregory-the-theologian.jpeg
END:VEVENT
BEGIN:VEVENT
DTSTART;TZID=Europe/London:20260121T191500
DTEND;TZID=Europe/London:20260121T191500
DTSTAMP:20260425T153009
CREATED:20260110T143635Z
LAST-MODIFIED:20260110T143635Z
UID:18276-1769022900-1769022900@www.stbarbara.org.uk
SUMMARY:7:15 pm\, Catechesis\, All are welcome!
DESCRIPTION:
URL:https://www.stbarbara.org.uk/event/715-pm-catechesis-all-are-welcome/
LOCATION:Saint Barbara the Great Martyr Orthodox Church\, Chester\, CH4 7HW\, United Kingdom
CATEGORIES:Services
ATTACH;FMTTYPE=image/jpeg:https://www.stbarbara.org.uk/wp-content/uploads/2024/12/Catechism.jpg
END:VEVENT
BEGIN:VEVENT
DTSTART;TZID=Europe/London:20260121T183000
DTEND;TZID=Europe/London:20260121T183000
DTSTAMP:20260425T153009
CREATED:20260110T143357Z
LAST-MODIFIED:20260110T143414Z
UID:18273-1769020200-1769020200@www.stbarbara.org.uk
SUMMARY:6:30 pm\, Vespers\, Holy Apostle Timothy
DESCRIPTION:
URL:https://www.stbarbara.org.uk/event/630-pm-vespers-holy-apostle-timothy/
LOCATION:Saint Barbara the Great Martyr Orthodox Church\, Chester\, CH4 7HW\, United Kingdom
CATEGORIES:Services
ATTACH;FMTTYPE=image/jpeg:https://www.stbarbara.org.uk/wp-content/uploads/2026/01/Holy-Apostle-Timothy.jpg
END:VEVENT
BEGIN:VEVENT
DTSTART;TZID=Europe/London:20260118T110000
DTEND;TZID=Europe/London:20260118T110000
DTSTAMP:20260425T153009
CREATED:20260110T123218Z
LAST-MODIFIED:20260110T123218Z
UID:18271-1768734000-1768734000@www.stbarbara.org.uk
SUMMARY:11:00am\, Divine Liturgy\, St Athanatius & St Cyril Patriarch of Alexandria
DESCRIPTION:
URL:https://www.stbarbara.org.uk/event/1100am-divine-liturgy-st-athanatius-st-cyril-patriarch-of-alexandria/
LOCATION:Saint Barbara the Great Martyr Orthodox Church\, Chester\, CH4 7HW\, United Kingdom
CATEGORIES:Services
ATTACH;FMTTYPE=image/png:https://www.stbarbara.org.uk/wp-content/uploads/2024/11/Divine-Liturgy.png
END:VEVENT
BEGIN:VEVENT
DTSTART;TZID=Europe/London:20260118T100000
DTEND;TZID=Europe/London:20260118T100000
DTSTAMP:20260425T153009
CREATED:20260110T123110Z
LAST-MODIFIED:20260110T123110Z
UID:18269-1768730400-1768730400@www.stbarbara.org.uk
SUMMARY:10:00 am\, Matins
DESCRIPTION:
URL:https://www.stbarbara.org.uk/event/1000-am-matins-2/
LOCATION:Saint Barbara the Great Martyr Orthodox Church\, Chester\, CH4 7HW\, United Kingdom
CATEGORIES:Services
ATTACH;FMTTYPE=image/jpeg:https://www.stbarbara.org.uk/wp-content/uploads/2026/01/Matins.jpg
END:VEVENT
BEGIN:VEVENT
DTSTART;TZID=Europe/London:20260117T173000
DTEND;TZID=Europe/London:20260117T173000
DTSTAMP:20260425T153009
CREATED:20260110T122838Z
LAST-MODIFIED:20260110T122838Z
UID:18266-1768671000-1768671000@www.stbarbara.org.uk
SUMMARY:5:30PM\, Great Vespers\, St Athanatius & St Cyril Patriarch of Alexandria
DESCRIPTION:
URL:https://www.stbarbara.org.uk/event/530pm-great-vespers-st-athanatius-st-cyril-patriarch-of-alexandria/
LOCATION:Saint Barbara the Great Martyr Orthodox Church\, Chester\, CH4 7HW\, United Kingdom
CATEGORIES:Services
ATTACH;FMTTYPE=image/png:https://www.stbarbara.org.uk/wp-content/uploads/2026/01/St-Athanatius-St-Cyril-Patriarch-of-Alexandria.png
END:VEVENT
BEGIN:VEVENT
DTSTART;TZID=Europe/London:20260114T191500
DTEND;TZID=Europe/London:20260114T191500
DTSTAMP:20260425T153009
CREATED:20260110T122404Z
LAST-MODIFIED:20260110T144641Z
UID:18264-1768418100-1768418100@www.stbarbara.org.uk
SUMMARY:7:15 pm\, Catechesis\, All are welcome!
DESCRIPTION:
URL:https://www.stbarbara.org.uk/event/730-pm-catechesis-all-are-welcome-10/
LOCATION:Saint Barbara the Great Martyr Orthodox Church\, Chester\, CH4 7HW\, United Kingdom
CATEGORIES:Services
ATTACH;FMTTYPE=image/jpeg:https://www.stbarbara.org.uk/wp-content/uploads/2024/12/Catechism.jpg
END:VEVENT
BEGIN:VEVENT
DTSTART;TZID=Europe/London:20260114T183000
DTEND;TZID=Europe/London:20260114T183000
DTSTAMP:20260425T153009
CREATED:20260110T122058Z
LAST-MODIFIED:20260110T122058Z
UID:18261-1768415400-1768415400@www.stbarbara.org.uk
SUMMARY:6:30 pm\, Vespers\, St Paul of Thebes
DESCRIPTION:
URL:https://www.stbarbara.org.uk/event/630-pm-vespers-st-paul-of-thebes/
LOCATION:Saint Barbara the Great Martyr Orthodox Church\, Chester\, CH4 7HW\, United Kingdom
CATEGORIES:Services
ATTACH;FMTTYPE=image/jpeg:https://www.stbarbara.org.uk/wp-content/uploads/2026/01/St-Paul-of-Thebes.jpg
END:VEVENT
BEGIN:VEVENT
DTSTART;TZID=Europe/London:20260111T110000
DTEND;TZID=Europe/London:20260111T110000
DTSTAMP:20260425T153009
CREATED:20260110T120424Z
LAST-MODIFIED:20260110T120424Z
UID:18259-1768129200-1768129200@www.stbarbara.org.uk
SUMMARY:11:00am\, Divine Liturgy\, Sunday after Theophany
DESCRIPTION:
URL:https://www.stbarbara.org.uk/event/1100am-divine-liturgy-sunday-after-theophany/
LOCATION:Saint Barbara the Great Martyr Orthodox Church\, Chester\, CH4 7HW\, United Kingdom
CATEGORIES:Services
ATTACH;FMTTYPE=image/png:https://www.stbarbara.org.uk/wp-content/uploads/2024/11/Divine-Liturgy.png
END:VEVENT
BEGIN:VEVENT
DTSTART;TZID=Europe/London:20260111T100000
DTEND;TZID=Europe/London:20260111T100000
DTSTAMP:20260425T153009
CREATED:20260110T120228Z
LAST-MODIFIED:20260110T120228Z
UID:18256-1768125600-1768125600@www.stbarbara.org.uk
SUMMARY:10:00 am\, Matins
DESCRIPTION:
URL:https://www.stbarbara.org.uk/event/1000-am-matins/
LOCATION:Saint Barbara the Great Martyr Orthodox Church\, Chester\, CH4 7HW\, United Kingdom
CATEGORIES:Services
ATTACH;FMTTYPE=image/jpeg:https://www.stbarbara.org.uk/wp-content/uploads/2026/01/Matins.jpg
END:VEVENT
BEGIN:VEVENT
DTSTART;TZID=Europe/London:20260110T173000
DTEND;TZID=Europe/London:20260110T173000
DTSTAMP:20260425T153009
CREATED:20260110T115418Z
LAST-MODIFIED:20260110T115418Z
UID:18253-1768066200-1768066200@www.stbarbara.org.uk
SUMMARY:5:30PM\, Great Vespers\, St Theodosius the great
DESCRIPTION:
URL:https://www.stbarbara.org.uk/event/530pm-great-vespers-st-theodosius-the-great/
LOCATION:Saint Barbara the Great Martyr Orthodox Church\, Chester\, CH4 7HW\, United Kingdom
CATEGORIES:Services
ATTACH;FMTTYPE=image/jpeg:https://www.stbarbara.org.uk/wp-content/uploads/2026/01/St-Theodosius-the-great.jpg
END:VEVENT
BEGIN:VEVENT
DTSTART;TZID=Europe/London:20260106T120000
DTEND;TZID=Europe/London:20260106T120000
DTSTAMP:20260425T153009
CREATED:20251124T161520Z
LAST-MODIFIED:20251124T161520Z
UID:18239-1767700800-1767700800@www.stbarbara.org.uk
SUMMARY:12:00 PM\, The Blessing of the River Dee (River Dee\, Eccleston)
DESCRIPTION:River Dee\, Eccleston
URL:https://www.stbarbara.org.uk/event/1200-pm-the-blessing-of-the-river-dee-river-dee-eccleston/
LOCATION:Saint Barbara the Great Martyr Orthodox Church\, Chester\, CH4 7HW\, United Kingdom
CATEGORIES:Services
ATTACH;FMTTYPE=image/jpeg:https://www.stbarbara.org.uk/wp-content/uploads/2024/12/Great-Blessing-of-the-water.jpg
END:VEVENT
BEGIN:VEVENT
DTSTART;TZID=Europe/London:20260106T100000
DTEND;TZID=Europe/London:20260106T100000
DTSTAMP:20260425T153009
CREATED:20251124T161307Z
LAST-MODIFIED:20251124T161307Z
UID:18237-1767693600-1767693600@www.stbarbara.org.uk
SUMMARY:10:00am\, Divine Liturgy
DESCRIPTION:
URL:https://www.stbarbara.org.uk/event/1000am-divine-liturgy-2/
LOCATION:Saint Barbara the Great Martyr Orthodox Church\, Chester\, CH4 7HW\, United Kingdom
CATEGORIES:Services
ATTACH;FMTTYPE=image/png:https://www.stbarbara.org.uk/wp-content/uploads/2024/11/Divine-Liturgy.png
END:VEVENT
BEGIN:VEVENT
DTSTART;TZID=Europe/London:20260106T090000
DTEND;TZID=Europe/London:20260106T090000
DTSTAMP:20260425T153009
CREATED:20251124T161156Z
LAST-MODIFIED:20251124T161156Z
UID:18234-1767690000-1767690000@www.stbarbara.org.uk
SUMMARY:9:00 am\, Matins\, Theophany of our Lord and Savior
DESCRIPTION:
URL:https://www.stbarbara.org.uk/event/900-am-matins-theophany-of-our-lord-and-savior/
LOCATION:Saint Barbara the Great Martyr Orthodox Church\, Chester\, CH4 7HW\, United Kingdom
CATEGORIES:Services
ATTACH;FMTTYPE=image/jpeg:https://www.stbarbara.org.uk/wp-content/uploads/2025/11/Theophany-of-our-Lord-and-Savior.jpg
END:VEVENT
BEGIN:VEVENT
DTSTART;TZID=Europe/London:20260105T180000
DTEND;TZID=Europe/London:20260105T180000
DTSTAMP:20260425T153009
CREATED:20251124T160916Z
LAST-MODIFIED:20260105T151327Z
UID:18231-1767636000-1767636000@www.stbarbara.org.uk
SUMMARY:***CANCELLED*** 6:00pm\, Vesperal Liturgy\, Feast of Theophany
DESCRIPTION:
URL:https://www.stbarbara.org.uk/event/600pm-vesperal-liturgy-feast-of-theophany/
LOCATION:Saint Barbara the Great Martyr Orthodox Church\, Chester\, CH4 7HW\, United Kingdom
CATEGORIES:Services
ATTACH;FMTTYPE=image/webp:https://www.stbarbara.org.uk/wp-content/uploads/2025/11/Feast-of-Theophany.webp
END:VEVENT
END:VCALENDAR