BEGIN:VCALENDAR
VERSION:2.0
PRODID:-//The Orthodox Christian Parish of St Barbara, Chester, UK - ECPv6.15.20//NONSGML v1.0//EN
CALSCALE:GREGORIAN
METHOD:PUBLISH
X-WR-CALNAME:The Orthodox Christian Parish of St Barbara, Chester, UK
X-ORIGINAL-URL:https://www.stbarbara.org.uk
X-WR-CALDESC:Events for The Orthodox Christian Parish of St Barbara, Chester, UK
REFRESH-INTERVAL;VALUE=DURATION:PT1H
X-Robots-Tag:noindex
X-PUBLISHED-TTL:PT1H
BEGIN:VTIMEZONE
TZID:Europe/London
BEGIN:DAYLIGHT
TZOFFSETFROM:+0000
TZOFFSETTO:+0100
TZNAME:BST
DTSTART:20250330T010000
END:DAYLIGHT
BEGIN:STANDARD
TZOFFSETFROM:+0100
TZOFFSETTO:+0000
TZNAME:GMT
DTSTART:20251026T010000
END:STANDARD
BEGIN:DAYLIGHT
TZOFFSETFROM:+0000
TZOFFSETTO:+0100
TZNAME:BST
DTSTART:20260329T010000
END:DAYLIGHT
BEGIN:STANDARD
TZOFFSETFROM:+0100
TZOFFSETTO:+0000
TZNAME:GMT
DTSTART:20261025T010000
END:STANDARD
BEGIN:DAYLIGHT
TZOFFSETFROM:+0000
TZOFFSETTO:+0100
TZNAME:BST
DTSTART:20270328T010000
END:DAYLIGHT
BEGIN:STANDARD
TZOFFSETFROM:+0100
TZOFFSETTO:+0000
TZNAME:GMT
DTSTART:20271031T010000
END:STANDARD
END:VTIMEZONE
BEGIN:VEVENT
DTSTART;TZID=Europe/London:20260530T173000
DTEND;TZID=Europe/London:20260530T173000
DTSTAMP:20260425T233817
CREATED:20260416T080827Z
LAST-MODIFIED:20260416T080827Z
UID:18590-1780162200-1780162200@www.stbarbara.org.uk
SUMMARY:5:30pm\, Great Vespers\, Holy Pentecost
DESCRIPTION:
URL:https://www.stbarbara.org.uk/event/530pm-great-vespers-holy-pentecost/
LOCATION:Saint Barbara the Great Martyr Orthodox Church\, Chester\, CH4 7HW\, United Kingdom
CATEGORIES:Services
ATTACH;FMTTYPE=image/png:https://www.stbarbara.org.uk/wp-content/uploads/2025/05/The-Feast-of-Pentecost.png
END:VEVENT
BEGIN:VEVENT
DTSTART;TZID=Europe/London:20260531T100000
DTEND;TZID=Europe/London:20260531T100000
DTSTAMP:20260425T233817
CREATED:20260416T080941Z
LAST-MODIFIED:20260416T080941Z
UID:18592-1780221600-1780221600@www.stbarbara.org.uk
SUMMARY:10:00am\, Matins\,Holy Pentecost
DESCRIPTION:
URL:https://www.stbarbara.org.uk/event/1000am-matinsholy-pentecost/
LOCATION:Saint Barbara the Great Martyr Orthodox Church\, Chester\, CH4 7HW\, United Kingdom
CATEGORIES:Services
ATTACH;FMTTYPE=image/png:https://www.stbarbara.org.uk/wp-content/uploads/2025/05/The-Feast-of-Pentecost.png
END:VEVENT
BEGIN:VEVENT
DTSTART;TZID=Europe/London:20260531T110000
DTEND;TZID=Europe/London:20260531T110000
DTSTAMP:20260425T233817
CREATED:20260416T081029Z
LAST-MODIFIED:20260416T081029Z
UID:18594-1780225200-1780225200@www.stbarbara.org.uk
SUMMARY:11:00am\, Divine Liturgy
DESCRIPTION:
URL:https://www.stbarbara.org.uk/event/1100am-divine-liturgy-40/
LOCATION:Saint Barbara the Great Martyr Orthodox Church\, Chester\, CH4 7HW\, United Kingdom
CATEGORIES:Services
ATTACH;FMTTYPE=image/png:https://www.stbarbara.org.uk/wp-content/uploads/2024/11/Divine-Liturgy.png
END:VEVENT
END:VCALENDAR