BEGIN:VCALENDAR
VERSION:2.0
PRODID:-//The Orthodox Christian Parish of St Barbara, Chester, UK - ECPv6.15.20//NONSGML v1.0//EN
CALSCALE:GREGORIAN
METHOD:PUBLISH
X-WR-CALNAME:The Orthodox Christian Parish of St Barbara, Chester, UK
X-ORIGINAL-URL:https://www.stbarbara.org.uk
X-WR-CALDESC:Events for The Orthodox Christian Parish of St Barbara, Chester, UK
REFRESH-INTERVAL;VALUE=DURATION:PT1H
X-Robots-Tag:noindex
X-PUBLISHED-TTL:PT1H
BEGIN:VTIMEZONE
TZID:Europe/London
BEGIN:DAYLIGHT
TZOFFSETFROM:+0000
TZOFFSETTO:+0100
TZNAME:BST
DTSTART:20240331T010000
END:DAYLIGHT
BEGIN:STANDARD
TZOFFSETFROM:+0100
TZOFFSETTO:+0000
TZNAME:GMT
DTSTART:20241027T010000
END:STANDARD
BEGIN:DAYLIGHT
TZOFFSETFROM:+0000
TZOFFSETTO:+0100
TZNAME:BST
DTSTART:20250330T010000
END:DAYLIGHT
BEGIN:STANDARD
TZOFFSETFROM:+0100
TZOFFSETTO:+0000
TZNAME:GMT
DTSTART:20251026T010000
END:STANDARD
BEGIN:DAYLIGHT
TZOFFSETFROM:+0000
TZOFFSETTO:+0100
TZNAME:BST
DTSTART:20260329T010000
END:DAYLIGHT
BEGIN:STANDARD
TZOFFSETFROM:+0100
TZOFFSETTO:+0000
TZNAME:GMT
DTSTART:20261025T010000
END:STANDARD
BEGIN:DAYLIGHT
TZOFFSETFROM:+0000
TZOFFSETTO:+0100
TZNAME:BST
DTSTART:20270328T010000
END:DAYLIGHT
BEGIN:STANDARD
TZOFFSETFROM:+0100
TZOFFSETTO:+0000
TZNAME:GMT
DTSTART:20271031T010000
END:STANDARD
END:VTIMEZONE
BEGIN:VEVENT
DTSTART;TZID=Europe/London:20260110T173000
DTEND;TZID=Europe/London:20260110T173000
DTSTAMP:20260425T225437
CREATED:20260110T115418Z
LAST-MODIFIED:20260110T115418Z
UID:18253-1768066200-1768066200@www.stbarbara.org.uk
SUMMARY:5:30PM\, Great Vespers\, St Theodosius the great
DESCRIPTION:
URL:https://www.stbarbara.org.uk/event/530pm-great-vespers-st-theodosius-the-great/
LOCATION:Saint Barbara the Great Martyr Orthodox Church\, Chester\, CH4 7HW\, United Kingdom
CATEGORIES:Services
ATTACH;FMTTYPE=image/jpeg:https://www.stbarbara.org.uk/wp-content/uploads/2026/01/St-Theodosius-the-great.jpg
END:VEVENT
BEGIN:VEVENT
DTSTART;TZID=Europe/London:20260106T120000
DTEND;TZID=Europe/London:20260106T120000
DTSTAMP:20260425T225437
CREATED:20251124T161520Z
LAST-MODIFIED:20251124T161520Z
UID:18239-1767700800-1767700800@www.stbarbara.org.uk
SUMMARY:12:00 PM\, The Blessing of the River Dee (River Dee\, Eccleston)
DESCRIPTION:River Dee\, Eccleston
URL:https://www.stbarbara.org.uk/event/1200-pm-the-blessing-of-the-river-dee-river-dee-eccleston/
LOCATION:Saint Barbara the Great Martyr Orthodox Church\, Chester\, CH4 7HW\, United Kingdom
CATEGORIES:Services
ATTACH;FMTTYPE=image/jpeg:https://www.stbarbara.org.uk/wp-content/uploads/2024/12/Great-Blessing-of-the-water.jpg
END:VEVENT
BEGIN:VEVENT
DTSTART;TZID=Europe/London:20260106T100000
DTEND;TZID=Europe/London:20260106T100000
DTSTAMP:20260425T225437
CREATED:20251124T161307Z
LAST-MODIFIED:20251124T161307Z
UID:18237-1767693600-1767693600@www.stbarbara.org.uk
SUMMARY:10:00am\, Divine Liturgy
DESCRIPTION:
URL:https://www.stbarbara.org.uk/event/1000am-divine-liturgy-2/
LOCATION:Saint Barbara the Great Martyr Orthodox Church\, Chester\, CH4 7HW\, United Kingdom
CATEGORIES:Services
ATTACH;FMTTYPE=image/png:https://www.stbarbara.org.uk/wp-content/uploads/2024/11/Divine-Liturgy.png
END:VEVENT
BEGIN:VEVENT
DTSTART;TZID=Europe/London:20260106T090000
DTEND;TZID=Europe/London:20260106T090000
DTSTAMP:20260425T225437
CREATED:20251124T161156Z
LAST-MODIFIED:20251124T161156Z
UID:18234-1767690000-1767690000@www.stbarbara.org.uk
SUMMARY:9:00 am\, Matins\, Theophany of our Lord and Savior
DESCRIPTION:
URL:https://www.stbarbara.org.uk/event/900-am-matins-theophany-of-our-lord-and-savior/
LOCATION:Saint Barbara the Great Martyr Orthodox Church\, Chester\, CH4 7HW\, United Kingdom
CATEGORIES:Services
ATTACH;FMTTYPE=image/jpeg:https://www.stbarbara.org.uk/wp-content/uploads/2025/11/Theophany-of-our-Lord-and-Savior.jpg
END:VEVENT
BEGIN:VEVENT
DTSTART;TZID=Europe/London:20260105T180000
DTEND;TZID=Europe/London:20260105T180000
DTSTAMP:20260425T225437
CREATED:20251124T160916Z
LAST-MODIFIED:20260105T151327Z
UID:18231-1767636000-1767636000@www.stbarbara.org.uk
SUMMARY:***CANCELLED*** 6:00pm\, Vesperal Liturgy\, Feast of Theophany
DESCRIPTION:
URL:https://www.stbarbara.org.uk/event/600pm-vesperal-liturgy-feast-of-theophany/
LOCATION:Saint Barbara the Great Martyr Orthodox Church\, Chester\, CH4 7HW\, United Kingdom
CATEGORIES:Services
ATTACH;FMTTYPE=image/webp:https://www.stbarbara.org.uk/wp-content/uploads/2025/11/Feast-of-Theophany.webp
END:VEVENT
BEGIN:VEVENT
DTSTART;TZID=Europe/London:20260104T110000
DTEND;TZID=Europe/London:20260104T110000
DTSTAMP:20260425T225437
CREATED:20251124T160604Z
LAST-MODIFIED:20251124T160604Z
UID:18229-1767524400-1767524400@www.stbarbara.org.uk
SUMMARY:11:00 am\, The Great Blessing of the Waters
DESCRIPTION:
URL:https://www.stbarbara.org.uk/event/1100-am-the-great-blessing-of-the-waters/
LOCATION:Saint Barbara the Great Martyr Orthodox Church\, Chester\, CH4 7HW\, United Kingdom
CATEGORIES:Services
ATTACH;FMTTYPE=image/jpeg:https://www.stbarbara.org.uk/wp-content/uploads/2024/12/Great-Blessing-of-the-water.jpg
END:VEVENT
BEGIN:VEVENT
DTSTART;TZID=Europe/London:20260104T100000
DTEND;TZID=Europe/London:20260104T100000
DTSTAMP:20260425T225437
CREATED:20251124T160306Z
LAST-MODIFIED:20251124T160420Z
UID:18225-1767520800-1767520800@www.stbarbara.org.uk
SUMMARY:10:00 am\, Divine Liturgy\, Sunday Before Epiphany
DESCRIPTION:
URL:https://www.stbarbara.org.uk/event/1000-am-matins-sunday-before-epiphany/
LOCATION:Saint Barbara the Great Martyr Orthodox Church\, Chester\, CH4 7HW\, United Kingdom
CATEGORIES:Services
ATTACH;FMTTYPE=image/jpeg:https://www.stbarbara.org.uk/wp-content/uploads/2025/11/Sunday-Before-Epiphany.jpg
END:VEVENT
BEGIN:VEVENT
DTSTART;TZID=Europe/London:20260103T173000
DTEND;TZID=Europe/London:20260103T173000
DTSTAMP:20260425T225437
CREATED:20251124T160052Z
LAST-MODIFIED:20251228T194800Z
UID:18223-1767461400-1767461400@www.stbarbara.org.uk
SUMMARY:***CANCELLED *** 5:30pm\, Great Vespers
DESCRIPTION:
URL:https://www.stbarbara.org.uk/event/530pm-great-vespers-11/
LOCATION:Saint Barbara the Great Martyr Orthodox Church\, Chester\, CH4 7HW\, United Kingdom
CATEGORIES:Services
ATTACH;FMTTYPE=image/jpeg:https://www.stbarbara.org.uk/wp-content/uploads/2024/12/Great-vespers.jpg
END:VEVENT
BEGIN:VEVENT
DTSTART;TZID=Europe/London:20260101T110000
DTEND;TZID=Europe/London:20260101T110000
DTSTAMP:20260425T225437
CREATED:20251124T155930Z
LAST-MODIFIED:20251124T155930Z
UID:18221-1767265200-1767265200@www.stbarbara.org.uk
SUMMARY:11:00am\, Divine Liturgy of St. Basil
DESCRIPTION:
URL:https://www.stbarbara.org.uk/event/1100am-divine-liturgy-of-st-basil-4/
LOCATION:Saint Barbara the Great Martyr Orthodox Church\, Chester\, CH4 7HW\, United Kingdom
CATEGORIES:Services
ATTACH;FMTTYPE=image/png:https://www.stbarbara.org.uk/wp-content/uploads/2024/11/Divine-Liturgy.png
END:VEVENT
BEGIN:VEVENT
DTSTART;TZID=Europe/London:20260101T100000
DTEND;TZID=Europe/London:20260101T100000
DTSTAMP:20260425T225437
CREATED:20251124T155549Z
LAST-MODIFIED:20251124T155549Z
UID:18219-1767261600-1767261600@www.stbarbara.org.uk
SUMMARY:10:00 am\, Matins\, Circumcision of Our Lord
DESCRIPTION:
URL:https://www.stbarbara.org.uk/event/1000-am-matins-circumcision-of-our-lord/
LOCATION:Saint Barbara the Great Martyr Orthodox Church\, Chester\, CH4 7HW\, United Kingdom
CATEGORIES:Services
ATTACH;FMTTYPE=image/jpeg:https://www.stbarbara.org.uk/wp-content/uploads/2024/12/Circumcision-of-Our-Lord.jpg
END:VEVENT
BEGIN:VEVENT
DTSTART;TZID=Europe/London:20251228T110000
DTEND;TZID=Europe/London:20251228T110000
DTSTAMP:20260425T225437
CREATED:20251124T155416Z
LAST-MODIFIED:20251124T155416Z
UID:18217-1766919600-1766919600@www.stbarbara.org.uk
SUMMARY:11:00am\, Divine Liturgy
DESCRIPTION:
URL:https://www.stbarbara.org.uk/event/1100am-divine-liturgy-19/
LOCATION:Saint Barbara the Great Martyr Orthodox Church\, Chester\, CH4 7HW\, United Kingdom
CATEGORIES:Services
ATTACH;FMTTYPE=image/png:https://www.stbarbara.org.uk/wp-content/uploads/2024/11/Divine-Liturgy.png
END:VEVENT
BEGIN:VEVENT
DTSTART;TZID=Europe/London:20251228T100000
DTEND;TZID=Europe/London:20251228T100000
DTSTAMP:20260425T225437
CREATED:20251124T155321Z
LAST-MODIFIED:20251124T155321Z
UID:18212-1766916000-1766916000@www.stbarbara.org.uk
SUMMARY:10:00 am\, Matins\, Sunday after Nativity of Christ
DESCRIPTION:
URL:https://www.stbarbara.org.uk/event/1000-am-matins-sunday-after-nativity-of-christ/
LOCATION:Saint Barbara the Great Martyr Orthodox Church\, Chester\, CH4 7HW\, United Kingdom
CATEGORIES:Services
ATTACH;FMTTYPE=image/png:https://www.stbarbara.org.uk/wp-content/uploads/2025/11/Sunday-after-Nativity-of-Christ.png
END:VEVENT
BEGIN:VEVENT
DTSTART;TZID=Europe/London:20251225T110000
DTEND;TZID=Europe/London:20251225T110000
DTSTAMP:20260425T225437
CREATED:20251124T154829Z
LAST-MODIFIED:20251124T154829Z
UID:18210-1766660400-1766660400@www.stbarbara.org.uk
SUMMARY:11:00am\, Divine Liturgy of St. Basil
DESCRIPTION:
URL:https://www.stbarbara.org.uk/event/1100am-divine-liturgy-of-st-basil-3/
LOCATION:Saint Barbara the Great Martyr Orthodox Church\, Chester\, CH4 7HW\, United Kingdom
CATEGORIES:Services
ATTACH;FMTTYPE=image/png:https://www.stbarbara.org.uk/wp-content/uploads/2024/11/Divine-Liturgy.png
END:VEVENT
BEGIN:VEVENT
DTSTART;TZID=Europe/London:20251225T100000
DTEND;TZID=Europe/London:20251225T100000
DTSTAMP:20260425T225437
CREATED:20251124T154645Z
LAST-MODIFIED:20251124T154645Z
UID:18207-1766656800-1766656800@www.stbarbara.org.uk
SUMMARY:10:00 am\, Matins\, The Nativity According to the flesh of our Lord and Saviour Jesus Christ
DESCRIPTION:
URL:https://www.stbarbara.org.uk/event/1000-am-matins-the-nativity-according-to-the-flesh-of-our-lord-and-saviour-jesus-christ/
LOCATION:Saint Barbara the Great Martyr Orthodox Church\, Chester\, CH4 7HW\, United Kingdom
CATEGORIES:Services
ATTACH;FMTTYPE=image/png:https://www.stbarbara.org.uk/wp-content/uploads/2025/11/The-Nativity-According-to-the-flesh-of-our-Lord-and-Saviour-Jesus-Christ.png
END:VEVENT
BEGIN:VEVENT
DTSTART;TZID=Europe/London:20251224T180000
DTEND;TZID=Europe/London:20251224T180000
DTSTAMP:20260425T225437
CREATED:20251124T154427Z
LAST-MODIFIED:20251124T154427Z
UID:18204-1766599200-1766599200@www.stbarbara.org.uk
SUMMARY:6:00pm\, Vespers with Liturgy of St. Basil\, Eve of Nativity
DESCRIPTION:
URL:https://www.stbarbara.org.uk/event/600pm-vespers-with-liturgy-of-st-basil-eve-of-nativity/
LOCATION:Saint Barbara the Great Martyr Orthodox Church\, Chester\, CH4 7HW\, United Kingdom
CATEGORIES:Services
ATTACH;FMTTYPE=image/jpeg:https://www.stbarbara.org.uk/wp-content/uploads/2025/11/Eve-of-Nativity.jpg
END:VEVENT
BEGIN:VEVENT
DTSTART;TZID=Europe/London:20251221T140000
DTEND;TZID=Europe/London:20251221T140000
DTSTAMP:20260425T225437
CREATED:20251124T153932Z
LAST-MODIFIED:20251124T154104Z
UID:18199-1766325600-1766325600@www.stbarbara.org.uk
SUMMARY:2:00 pm\, Parish Feast at Northop Cricket Club
DESCRIPTION:Please join us at Northop Cricket Club from 2:00 p.m. as we celebrate the feast of our parish patron\, Saint Barbara the Great Martyr. \nAddress : Northop Rd\, Northop\, Mold\, CH7 6BR
URL:https://www.stbarbara.org.uk/event/200-pm-parish-feast-at-northop-cricket-club/
LOCATION:Northop Cricket Club\, Northop Rd\, Northop\, Mold CH7 6BR\, Northop Rd\, Northop\, Mold\, CH7 6BR\, United Kingdom
CATEGORIES:Services
END:VEVENT
BEGIN:VEVENT
DTSTART;TZID=Europe/London:20251221T110000
DTEND;TZID=Europe/London:20251221T110000
DTSTAMP:20260425T225437
CREATED:20251124T153242Z
LAST-MODIFIED:20251124T153242Z
UID:18197-1766314800-1766314800@www.stbarbara.org.uk
SUMMARY:11:00am\, Divine Liturgy
DESCRIPTION:
URL:https://www.stbarbara.org.uk/event/1100am-divine-liturgy-18/
LOCATION:Saint Barbara the Great Martyr Orthodox Church\, Chester\, CH4 7HW\, United Kingdom
ATTACH;FMTTYPE=image/png:https://www.stbarbara.org.uk/wp-content/uploads/2024/11/Divine-Liturgy.png
END:VEVENT
BEGIN:VEVENT
DTSTART;TZID=Europe/London:20251221T100000
DTEND;TZID=Europe/London:20251221T100000
DTSTAMP:20260425T225437
CREATED:20251124T153141Z
LAST-MODIFIED:20251124T153141Z
UID:18194-1766311200-1766311200@www.stbarbara.org.uk
SUMMARY:10:00 am\, Matins\, Sunday before Nativity
DESCRIPTION:
URL:https://www.stbarbara.org.uk/event/1000-am-matins-sunday-before-nativity/
LOCATION:Saint Barbara the Great Martyr Orthodox Church\, Chester\, CH4 7HW\, United Kingdom
CATEGORIES:Services
ATTACH;FMTTYPE=image/jpeg:https://www.stbarbara.org.uk/wp-content/uploads/2025/11/Sunday-before-Nativity.jpg
END:VEVENT
BEGIN:VEVENT
DTSTART;TZID=Europe/London:20251220T173000
DTEND;TZID=Europe/London:20251220T173000
DTSTAMP:20260425T225437
CREATED:20251124T152927Z
LAST-MODIFIED:20251124T152927Z
UID:18192-1766251800-1766251800@www.stbarbara.org.uk
SUMMARY:5:30pm\, Great Vespers
DESCRIPTION:
URL:https://www.stbarbara.org.uk/event/530pm-great-vespers-10/
LOCATION:Saint Barbara the Great Martyr Orthodox Church\, Chester\, CH4 7HW\, United Kingdom
CATEGORIES:Services
ATTACH;FMTTYPE=image/jpeg:https://www.stbarbara.org.uk/wp-content/uploads/2024/12/Great-vespers.jpg
END:VEVENT
BEGIN:VEVENT
DTSTART;TZID=Europe/London:20251220T100000
DTEND;TZID=Europe/London:20251220T100000
DTSTAMP:20260425T225437
CREATED:20251124T152754Z
LAST-MODIFIED:20251215T175910Z
UID:18188-1766224800-1766224800@www.stbarbara.org.uk
SUMMARY:***CANCELLED ***10:00 am\, Divine Liturgy\, Forefeast of the Nativity
DESCRIPTION:
URL:https://www.stbarbara.org.uk/event/1000-am-matins-forefeast-of-the-nativity/
LOCATION:Saint Barbara the Great Martyr Orthodox Church\, Chester\, CH4 7HW\, United Kingdom
CATEGORIES:Services
ATTACH;FMTTYPE=image/jpeg:https://www.stbarbara.org.uk/wp-content/uploads/2025/11/Forefeast-of-the-Nativity-of-Christ.jpg
END:VEVENT
BEGIN:VEVENT
DTSTART;TZID=Europe/London:20251219T183000
DTEND;TZID=Europe/London:20251219T183000
DTSTAMP:20260425T225437
CREATED:20251124T152455Z
LAST-MODIFIED:20251124T152455Z
UID:18186-1766169000-1766169000@www.stbarbara.org.uk
SUMMARY:6:30pm\, Vespers\, St. Ignatius the God Bearer
DESCRIPTION:
URL:https://www.stbarbara.org.uk/event/630pm-vespers-st-ignatius-the-god-bearer-2/
LOCATION:Saint Barbara the Great Martyr Orthodox Church\, Chester\, CH4 7HW\, United Kingdom
CATEGORIES:Services
ATTACH;FMTTYPE=image/jpeg:https://www.stbarbara.org.uk/wp-content/uploads/2024/12/St.-Ignatius-the-God-Bearer.jpg
END:VEVENT
BEGIN:VEVENT
DTSTART;TZID=Europe/London:20251217T193000
DTEND;TZID=Europe/London:20251217T193000
DTSTAMP:20260425T225437
CREATED:20251124T152300Z
LAST-MODIFIED:20251124T152300Z
UID:18184-1765999800-1765999800@www.stbarbara.org.uk
SUMMARY:7:30 pm\, Catechesis\, All are welcome!
DESCRIPTION:
URL:https://www.stbarbara.org.uk/event/730-pm-catechesis-all-are-welcome-9/
LOCATION:Saint Barbara the Great Martyr Orthodox Church\, Chester\, CH4 7HW\, United Kingdom
CATEGORIES:Services
ATTACH;FMTTYPE=image/jpeg:https://www.stbarbara.org.uk/wp-content/uploads/2024/12/Catechism.jpg
END:VEVENT
BEGIN:VEVENT
DTSTART;TZID=Europe/London:20251217T183000
DTEND;TZID=Europe/London:20251217T183000
DTSTAMP:20260425T225437
CREATED:20251124T152207Z
LAST-MODIFIED:20251124T152207Z
UID:18182-1765996200-1765996200@www.stbarbara.org.uk
SUMMARY:6:30pm\, Vespers
DESCRIPTION:
URL:https://www.stbarbara.org.uk/event/630pm-vespers-11/
LOCATION:Saint Barbara the Great Martyr Orthodox Church\, Chester\, CH4 7HW\, United Kingdom
CATEGORIES:Services
ATTACH;FMTTYPE=image/jpeg:https://www.stbarbara.org.uk/wp-content/uploads/2024/12/Great-vespers.jpg
END:VEVENT
BEGIN:VEVENT
DTSTART;TZID=Europe/London:20251214T110000
DTEND;TZID=Europe/London:20251214T110000
DTSTAMP:20260425T225437
CREATED:20251124T151958Z
LAST-MODIFIED:20251124T151958Z
UID:18180-1765710000-1765710000@www.stbarbara.org.uk
SUMMARY:11:00am\, Divine Liturgy\, 11th Sunday of Luke
DESCRIPTION:
URL:https://www.stbarbara.org.uk/event/1100am-divine-liturgy-11th-sunday-of-luke/
LOCATION:Saint Barbara the Great Martyr Orthodox Church\, Chester\, CH4 7HW\, United Kingdom
ATTACH;FMTTYPE=image/png:https://www.stbarbara.org.uk/wp-content/uploads/2024/11/Divine-Liturgy.png
END:VEVENT
BEGIN:VEVENT
DTSTART;TZID=Europe/London:20251214T100000
DTEND;TZID=Europe/London:20251214T100000
DTSTAMP:20260425T225437
CREATED:20251124T151859Z
LAST-MODIFIED:20251124T151859Z
UID:18178-1765706400-1765706400@www.stbarbara.org.uk
SUMMARY:10:00 am\, Matins\, 11th Sunday of Luke
DESCRIPTION:
URL:https://www.stbarbara.org.uk/event/1000-am-matins-11th-sunday-of-luke/
LOCATION:Saint Barbara the Great Martyr Orthodox Church\, Chester\, CH4 7HW\, United Kingdom
CATEGORIES:Services
ATTACH;FMTTYPE=image/jpeg:https://www.stbarbara.org.uk/wp-content/uploads/2024/10/St.-Luke.jpg
END:VEVENT
BEGIN:VEVENT
DTSTART;TZID=Europe/London:20251213T173000
DTEND;TZID=Europe/London:20251213T173000
DTSTAMP:20260425T225437
CREATED:20251124T151622Z
LAST-MODIFIED:20251124T151622Z
UID:18176-1765647000-1765647000@www.stbarbara.org.uk
SUMMARY:5:30 pm\, Great Vespers
DESCRIPTION:
URL:https://www.stbarbara.org.uk/event/530-pm-great-vespers-5/
LOCATION:Saint Barbara the Great Martyr Orthodox Church\, Chester\, CH4 7HW\, United Kingdom
CATEGORIES:Services
ATTACH;FMTTYPE=image/jpeg:https://www.stbarbara.org.uk/wp-content/uploads/2024/12/Great-vespers.jpg
END:VEVENT
BEGIN:VEVENT
DTSTART;TZID=Europe/London:20251211T183000
DTEND;TZID=Europe/London:20251211T183000
DTSTAMP:20260425T225437
CREATED:20251124T151440Z
LAST-MODIFIED:20251124T151459Z
UID:18174-1765477800-1765477800@www.stbarbara.org.uk
SUMMARY:6:30 PM\, Vespers\, St. Spyridon
DESCRIPTION:
URL:https://www.stbarbara.org.uk/event/630-pm-vespers-st-spyridon/
LOCATION:Saint Barbara the Great Martyr Orthodox Church\, Chester\, CH4 7HW\, United Kingdom
CATEGORIES:Services
ATTACH;FMTTYPE=image/jpeg:https://www.stbarbara.org.uk/wp-content/uploads/2023/11/spyridon.jpeg
END:VEVENT
BEGIN:VEVENT
DTSTART;TZID=Europe/London:20251210T193000
DTEND;TZID=Europe/London:20251210T193000
DTSTAMP:20260425T225437
CREATED:20251124T151301Z
LAST-MODIFIED:20251124T151301Z
UID:18172-1765395000-1765395000@www.stbarbara.org.uk
SUMMARY:7:30 pm\, Catechesis\, All are welcome!
DESCRIPTION:
URL:https://www.stbarbara.org.uk/event/730-pm-catechesis-all-are-welcome-8/
LOCATION:Saint Barbara the Great Martyr Orthodox Church\, Chester\, CH4 7HW\, United Kingdom
CATEGORIES:Services
ATTACH;FMTTYPE=image/jpeg:https://www.stbarbara.org.uk/wp-content/uploads/2024/12/Catechism.jpg
END:VEVENT
BEGIN:VEVENT
DTSTART;TZID=Europe/London:20251210T183000
DTEND;TZID=Europe/London:20251210T183000
DTSTAMP:20260425T225437
CREATED:20251124T151127Z
LAST-MODIFIED:20251124T151127Z
UID:18170-1765391400-1765391400@www.stbarbara.org.uk
SUMMARY:6:30 pm\, Vespers\, Saint Daniel and Luke\, the Stylites
DESCRIPTION:
URL:https://www.stbarbara.org.uk/event/630-pm-vespers-saint-daniel-and-luke-the-stylites/
LOCATION:Saint Barbara the Great Martyr Orthodox Church\, Chester\, CH4 7HW\, United Kingdom
CATEGORIES:Services
ATTACH;FMTTYPE=image/jpeg:https://www.stbarbara.org.uk/wp-content/uploads/2024/12/Daniel-and-Luke-the-Stylites.jpg
END:VEVENT
BEGIN:VEVENT
DTSTART;TZID=Europe/London:20251207T110000
DTEND;TZID=Europe/London:20251207T110000
DTSTAMP:20260425T225437
CREATED:20251124T150951Z
LAST-MODIFIED:20251124T150951Z
UID:18168-1765105200-1765105200@www.stbarbara.org.uk
SUMMARY:11:00 am\, Divine Liturgy\,10th Sunday of Luke
DESCRIPTION:
URL:https://www.stbarbara.org.uk/event/1100-am-divine-liturgy10th-sunday-of-luke/
LOCATION:Saint Barbara the Great Martyr Orthodox Church\, Chester\, CH4 7HW\, United Kingdom
CATEGORIES:Services
ATTACH;FMTTYPE=image/png:https://www.stbarbara.org.uk/wp-content/uploads/2024/11/Divine-Liturgy.png
END:VEVENT
END:VCALENDAR