BEGIN:VCALENDAR
VERSION:2.0
PRODID:-//The Orthodox Christian Parish of St Barbara, Chester, UK - ECPv6.15.20//NONSGML v1.0//EN
CALSCALE:GREGORIAN
METHOD:PUBLISH
X-ORIGINAL-URL:https://www.stbarbara.org.uk
X-WR-CALDESC:Events for The Orthodox Christian Parish of St Barbara, Chester, UK
REFRESH-INTERVAL;VALUE=DURATION:PT1H
X-Robots-Tag:noindex
X-PUBLISHED-TTL:PT1H
BEGIN:VTIMEZONE
TZID:Europe/London
BEGIN:DAYLIGHT
TZOFFSETFROM:+0000
TZOFFSETTO:+0100
TZNAME:BST
DTSTART:20250330T010000
END:DAYLIGHT
BEGIN:STANDARD
TZOFFSETFROM:+0100
TZOFFSETTO:+0000
TZNAME:GMT
DTSTART:20251026T010000
END:STANDARD
BEGIN:DAYLIGHT
TZOFFSETFROM:+0000
TZOFFSETTO:+0100
TZNAME:BST
DTSTART:20260329T010000
END:DAYLIGHT
BEGIN:STANDARD
TZOFFSETFROM:+0100
TZOFFSETTO:+0000
TZNAME:GMT
DTSTART:20261025T010000
END:STANDARD
BEGIN:DAYLIGHT
TZOFFSETFROM:+0000
TZOFFSETTO:+0100
TZNAME:BST
DTSTART:20270328T010000
END:DAYLIGHT
BEGIN:STANDARD
TZOFFSETFROM:+0100
TZOFFSETTO:+0000
TZNAME:GMT
DTSTART:20271031T010000
END:STANDARD
END:VTIMEZONE
BEGIN:VEVENT
DTSTART;TZID=Europe/London:20260329T110000
DTEND;TZID=Europe/London:20260329T110000
DTSTAMP:20260425T152128
CREATED:20260311T154729Z
LAST-MODIFIED:20260311T154729Z
UID:18503-1774782000-1774782000@www.stbarbara.org.uk
SUMMARY:11:00am\, Divine Liturgy
DESCRIPTION:
URL:https://www.stbarbara.org.uk/event/1100am-divine-liturgy-31/
LOCATION:Saint Barbara the Great Martyr Orthodox Church\, Chester\, CH4 7HW\, United Kingdom
CATEGORIES:Services
ATTACH;FMTTYPE=image/png:https://www.stbarbara.org.uk/wp-content/uploads/2024/11/Divine-Liturgy.png
END:VEVENT
BEGIN:VEVENT
DTSTART;TZID=Europe/London:20260401T180000
DTEND;TZID=Europe/London:20260401T180000
DTSTAMP:20260425T152128
CREATED:20260302T215747Z
LAST-MODIFIED:20260302T215747Z
UID:18434-1775066400-1775066400@www.stbarbara.org.uk
SUMMARY:6:00 pm\, Pre-Sanctified Liturgy
DESCRIPTION:
URL:https://www.stbarbara.org.uk/event/600-pm-pre-sanctified-liturgy-8/
LOCATION:Saint Barbara the Great Martyr Orthodox Church\, Chester\, CH4 7HW\, United Kingdom
CATEGORIES:Services
ATTACH;FMTTYPE=image/jpeg:https://www.stbarbara.org.uk/wp-content/uploads/2025/02/Divine-Liturgy-of-the-Pre-sanctified-Gifts.jpg
END:VEVENT
BEGIN:VEVENT
DTSTART;TZID=Europe/London:20260403T180000
DTEND;TZID=Europe/London:20260403T180000
DTSTAMP:20260425T152128
CREATED:20260302T215845Z
LAST-MODIFIED:20260302T215845Z
UID:18436-1775239200-1775239200@www.stbarbara.org.uk
SUMMARY:6:00 pm\, Pre-Sanctified Liturgy
DESCRIPTION:
URL:https://www.stbarbara.org.uk/event/600-pm-pre-sanctified-liturgy-9/
LOCATION:Saint Barbara the Great Martyr Orthodox Church\, Chester\, CH4 7HW\, United Kingdom
CATEGORIES:Services
ATTACH;FMTTYPE=image/jpeg:https://www.stbarbara.org.uk/wp-content/uploads/2025/02/Divine-Liturgy-of-the-Pre-sanctified-Gifts.jpg
END:VEVENT
BEGIN:VEVENT
DTSTART;VALUE=DATE:20260404
DTEND;VALUE=DATE:20260405
DTSTAMP:20260425T152128
CREATED:20260302T221210Z
LAST-MODIFIED:20260302T221210Z
UID:18456-1775260800-1775347199@www.stbarbara.org.uk
SUMMARY:Lazarus Saturday
DESCRIPTION:
URL:https://www.stbarbara.org.uk/event/lazarus-saturday/
LOCATION:Saint Barbara the Great Martyr Orthodox Church\, Chester\, CH4 7HW\, United Kingdom
CATEGORIES:Services
END:VEVENT
BEGIN:VEVENT
DTSTART;TZID=Europe/London:20260404T100000
DTEND;TZID=Europe/London:20260404T100000
DTSTAMP:20260425T152128
CREATED:20260302T220010Z
LAST-MODIFIED:20260302T220010Z
UID:18438-1775296800-1775296800@www.stbarbara.org.uk
SUMMARY:10:00 am\, Matins\, Lazarus Saturday
DESCRIPTION:
URL:https://www.stbarbara.org.uk/event/1000-am-matins-lazarus-saturday/
LOCATION:Saint Barbara the Great Martyr Orthodox Church\, Chester\, CH4 7HW\, United Kingdom
CATEGORIES:Services
ATTACH;FMTTYPE=image/jpeg:https://www.stbarbara.org.uk/wp-content/uploads/2025/03/Lazarus-Saturday.jpg
END:VEVENT
BEGIN:VEVENT
DTSTART;TZID=Europe/London:20260404T110000
DTEND;TZID=Europe/London:20260404T110000
DTSTAMP:20260425T152128
CREATED:20260302T220103Z
LAST-MODIFIED:20260302T220103Z
UID:18440-1775300400-1775300400@www.stbarbara.org.uk
SUMMARY:11:00am\, Divine Liturgy
DESCRIPTION:
URL:https://www.stbarbara.org.uk/event/1100am-divine-liturgy-29/
LOCATION:Saint Barbara the Great Martyr Orthodox Church\, Chester\, CH4 7HW\, United Kingdom
CATEGORIES:Services
ATTACH;FMTTYPE=image/png:https://www.stbarbara.org.uk/wp-content/uploads/2024/11/Divine-Liturgy.png
END:VEVENT
BEGIN:VEVENT
DTSTART;VALUE=DATE:20260405
DTEND;VALUE=DATE:20260406
DTSTAMP:20260425T152128
CREATED:20260302T221055Z
LAST-MODIFIED:20260302T221055Z
UID:18452-1775347200-1775433599@www.stbarbara.org.uk
SUMMARY:Palm Sunday
DESCRIPTION:
URL:https://www.stbarbara.org.uk/event/palm-sunday/
LOCATION:Saint Barbara the Great Martyr Orthodox Church\, Chester\, CH4 7HW\, United Kingdom
CATEGORIES:Services
END:VEVENT
BEGIN:VEVENT
DTSTART;TZID=Europe/London:20260405T100000
DTEND;TZID=Europe/London:20260405T100000
DTSTAMP:20260425T152128
CREATED:20260302T220339Z
LAST-MODIFIED:20260302T220339Z
UID:18442-1775383200-1775383200@www.stbarbara.org.uk
SUMMARY:10:00 am\, Matins\, Palm Sunday
DESCRIPTION:
URL:https://www.stbarbara.org.uk/event/1000-am-matins-palm-sunday/
LOCATION:Saint Barbara the Great Martyr Orthodox Church\, Chester\, CH4 7HW\, United Kingdom
CATEGORIES:Services
ATTACH;FMTTYPE=image/jpeg:https://www.stbarbara.org.uk/wp-content/uploads/2025/03/Palm-Sunday.jpg
END:VEVENT
BEGIN:VEVENT
DTSTART;TZID=Europe/London:20260405T110000
DTEND;TZID=Europe/London:20260405T110000
DTSTAMP:20260425T152128
CREATED:20260302T220442Z
LAST-MODIFIED:20260302T220442Z
UID:18444-1775386800-1775386800@www.stbarbara.org.uk
SUMMARY:11:00am\, Divine Liturgy
DESCRIPTION:
URL:https://www.stbarbara.org.uk/event/1100am-divine-liturgy-30/
LOCATION:Saint Barbara the Great Martyr Orthodox Church\, Chester\, CH4 7HW\, United Kingdom
CATEGORIES:Services
ATTACH;FMTTYPE=image/png:https://www.stbarbara.org.uk/wp-content/uploads/2024/11/Divine-Liturgy.png
END:VEVENT
BEGIN:VEVENT
DTSTART;TZID=Europe/London:20260405T150000
DTEND;TZID=Europe/London:20260405T150000
DTSTAMP:20260425T152128
CREATED:20260302T220552Z
LAST-MODIFIED:20260302T220552Z
UID:18446-1775401200-1775401200@www.stbarbara.org.uk
SUMMARY:3:00 pm\, Matins of the Bridegroom
DESCRIPTION:
URL:https://www.stbarbara.org.uk/event/300-pm-matins-of-the-bridegroom/
LOCATION:Saint Barbara the Great Martyr Orthodox Church\, Chester\, CH4 7HW\, United Kingdom
CATEGORIES:Services
ATTACH;FMTTYPE=image/jpeg:https://www.stbarbara.org.uk/wp-content/uploads/2025/03/Christ-the-Bridegroom.jpg
END:VEVENT
BEGIN:VEVENT
DTSTART;VALUE=DATE:20260406
DTEND;VALUE=DATE:20260407
DTSTAMP:20260425T152128
CREATED:20260302T221018Z
LAST-MODIFIED:20260302T221018Z
UID:18450-1775433600-1775519999@www.stbarbara.org.uk
SUMMARY:Holy Monday
DESCRIPTION:
URL:https://www.stbarbara.org.uk/event/holy-monday/
LOCATION:Saint Barbara the Great Martyr Orthodox Church\, Chester\, CH4 7HW\, United Kingdom
CATEGORIES:Services
END:VEVENT
BEGIN:VEVENT
DTSTART;TZID=Europe/London:20260406T183000
DTEND;TZID=Europe/London:20260406T183000
DTSTAMP:20260425T152128
CREATED:20260302T220927Z
LAST-MODIFIED:20260302T220927Z
UID:18448-1775500200-1775500200@www.stbarbara.org.uk
SUMMARY:6:30 pm\, Bridegroom Service\, Matins for Holy Tuesday
DESCRIPTION:
URL:https://www.stbarbara.org.uk/event/630-pm-bridegroom-service-matins-for-holy-tuesday/
LOCATION:Saint Barbara the Great Martyr Orthodox Church\, Chester\, CH4 7HW\, United Kingdom
CATEGORIES:Services
ATTACH;FMTTYPE=image/jpeg:https://www.stbarbara.org.uk/wp-content/uploads/2025/03/Christ-the-Bridegroom.jpg
END:VEVENT
BEGIN:VEVENT
DTSTART;VALUE=DATE:20260407
DTEND;VALUE=DATE:20260408
DTSTAMP:20260425T152128
CREATED:20260302T221133Z
LAST-MODIFIED:20260302T221133Z
UID:18454-1775520000-1775606399@www.stbarbara.org.uk
SUMMARY:Holy Tuesday
DESCRIPTION:
URL:https://www.stbarbara.org.uk/event/holy-tuesday/
LOCATION:Saint Barbara the Great Martyr Orthodox Church\, Chester\, CH4 7HW\, United Kingdom
CATEGORIES:Services
END:VEVENT
BEGIN:VEVENT
DTSTART;TZID=Europe/London:20260407T183000
DTEND;TZID=Europe/London:20260407T183000
DTSTAMP:20260425T152128
CREATED:20260302T221447Z
LAST-MODIFIED:20260302T221616Z
UID:18460-1775586600-1775586600@www.stbarbara.org.uk
SUMMARY:6:30 pm\, Bridegroom Service\, Matins for Holy Wednesday
DESCRIPTION:
URL:https://www.stbarbara.org.uk/event/630-pm-bridegroom-service-matins-for-holy-tuesday-2/
LOCATION:Saint Barbara the Great Martyr Orthodox Church\, Chester\, CH4 7HW\, United Kingdom
CATEGORIES:Services
ATTACH;FMTTYPE=image/jpeg:https://www.stbarbara.org.uk/wp-content/uploads/2025/03/Christ-the-Bridegroom.jpg
END:VEVENT
BEGIN:VEVENT
DTSTART;VALUE=DATE:20260408
DTEND;VALUE=DATE:20260409
DTSTAMP:20260425T152128
CREATED:20260302T221346Z
LAST-MODIFIED:20260302T221723Z
UID:18458-1775606400-1775692799@www.stbarbara.org.uk
SUMMARY:Holy Wednesday
DESCRIPTION:
URL:https://www.stbarbara.org.uk/event/holy-wedesday/
LOCATION:Saint Barbara the Great Martyr Orthodox Church\, Chester\, CH4 7HW\, United Kingdom
CATEGORIES:Services
END:VEVENT
BEGIN:VEVENT
DTSTART;TZID=Europe/London:20260408T183000
DTEND;TZID=Europe/London:20260408T183000
DTSTAMP:20260425T152128
CREATED:20260302T221830Z
LAST-MODIFIED:20260302T221830Z
UID:18466-1775673000-1775673000@www.stbarbara.org.uk
SUMMARY:6:30 pm\, Holy Unction
DESCRIPTION:
URL:https://www.stbarbara.org.uk/event/630-pm-holy-unction-2/
LOCATION:Saint Barbara the Great Martyr Orthodox Church\, Chester\, CH4 7HW\, United Kingdom
CATEGORIES:Services
ATTACH;FMTTYPE=image/jpeg:https://www.stbarbara.org.uk/wp-content/uploads/2025/03/Holy-Unction-service-of-the-anointing.jpg
END:VEVENT
BEGIN:VEVENT
DTSTART;VALUE=DATE:20260409
DTEND;VALUE=DATE:20260410
DTSTAMP:20260425T152128
CREATED:20260302T221942Z
LAST-MODIFIED:20260302T221942Z
UID:18468-1775692800-1775779199@www.stbarbara.org.uk
SUMMARY:Holy Thursday
DESCRIPTION:
URL:https://www.stbarbara.org.uk/event/holy-thursday/
LOCATION:Saint Barbara the Great Martyr Orthodox Church\, Chester\, CH4 7HW\, United Kingdom
CATEGORIES:Services
END:VEVENT
BEGIN:VEVENT
DTSTART;TZID=Europe/London:20260409T100000
DTEND;TZID=Europe/London:20260409T100000
DTSTAMP:20260425T152128
CREATED:20260302T222205Z
LAST-MODIFIED:20260302T222205Z
UID:18470-1775728800-1775728800@www.stbarbara.org.uk
SUMMARY:10:00 am\, Divine Liturgy for the Last Supper
DESCRIPTION:
URL:https://www.stbarbara.org.uk/event/1000-am-divine-liturgy-for-the-last-supper/
LOCATION:Saint Barbara the Great Martyr Orthodox Church\, Chester\, CH4 7HW\, United Kingdom
CATEGORIES:Services
ATTACH;FMTTYPE=image/jpeg:https://www.stbarbara.org.uk/wp-content/uploads/2025/03/The-Last-supper.jpg
END:VEVENT
BEGIN:VEVENT
DTSTART;TZID=Europe/London:20260409T183000
DTEND;TZID=Europe/London:20260409T183000
DTSTAMP:20260425T152128
CREATED:20260302T222418Z
LAST-MODIFIED:20260302T222442Z
UID:18472-1775759400-1775759400@www.stbarbara.org.uk
SUMMARY:6:30 pm\, Service of the Twelve Gospels
DESCRIPTION:
URL:https://www.stbarbara.org.uk/event/630-pm-service-of-the-twelve-gospels/
LOCATION:Saint Barbara the Great Martyr Orthodox Church\, Chester\, CH4 7HW\, United Kingdom
CATEGORIES:Services
ATTACH;FMTTYPE=image/jpeg:https://www.stbarbara.org.uk/wp-content/uploads/2025/03/Reading-of-the-12-Gospels-readings.jpg
END:VEVENT
BEGIN:VEVENT
DTSTART;VALUE=DATE:20260410
DTEND;VALUE=DATE:20260411
DTSTAMP:20260425T152128
CREATED:20260302T222714Z
LAST-MODIFIED:20260302T222714Z
UID:18474-1775779200-1775865599@www.stbarbara.org.uk
SUMMARY:Holy Friday
DESCRIPTION:
URL:https://www.stbarbara.org.uk/event/holy-friday/
LOCATION:Saint Barbara the Great Martyr Orthodox Church\, Chester\, CH4 7HW\, United Kingdom
CATEGORIES:Services
END:VEVENT
BEGIN:VEVENT
DTSTART;TZID=Europe/London:20260410T080000
DTEND;TZID=Europe/London:20260410T080000
DTSTAMP:20260425T152128
CREATED:20260302T222810Z
LAST-MODIFIED:20260302T222810Z
UID:18476-1775808000-1775808000@www.stbarbara.org.uk
SUMMARY:8:00 am\, Royal Hours
DESCRIPTION:
URL:https://www.stbarbara.org.uk/event/800-am-royal-hours/
LOCATION:Saint Barbara the Great Martyr Orthodox Church\, Chester\, CH4 7HW\, United Kingdom
CATEGORIES:Services
ATTACH;FMTTYPE=image/jpeg:https://www.stbarbara.org.uk/wp-content/uploads/2024/12/The-Royal-Hours.jpg
END:VEVENT
BEGIN:VEVENT
DTSTART;TZID=Europe/London:20260410T163000
DTEND;TZID=Europe/London:20260410T163000
DTSTAMP:20260425T152128
CREATED:20260302T223001Z
LAST-MODIFIED:20260302T223001Z
UID:18478-1775838600-1775838600@www.stbarbara.org.uk
SUMMARY:4:30 pm\, Vespers of the Descent from the Cross
DESCRIPTION:
URL:https://www.stbarbara.org.uk/event/430-pm-vespers-of-the-descent-from-the-cross/
LOCATION:Saint Barbara the Great Martyr Orthodox Church\, Chester\, CH4 7HW\, United Kingdom
CATEGORIES:Services
ATTACH;FMTTYPE=image/png:https://www.stbarbara.org.uk/wp-content/uploads/2025/03/Decent-from-the-cross.png
END:VEVENT
BEGIN:VEVENT
DTSTART;TZID=Europe/London:20260410T173000
DTEND;TZID=Europe/London:20260410T173000
DTSTAMP:20260425T152128
CREATED:20260302T223150Z
LAST-MODIFIED:20260302T223150Z
UID:18480-1775842200-1775842200@www.stbarbara.org.uk
SUMMARY:5:30 pm\, Lamentations and the Epitaphios Procession
DESCRIPTION:
URL:https://www.stbarbara.org.uk/event/530-pm-lamentations-and-the-epitaphios-procession/
LOCATION:Saint Barbara the Great Martyr Orthodox Church\, Chester\, CH4 7HW\, United Kingdom
CATEGORIES:Services
ATTACH;FMTTYPE=image/jpeg:https://www.stbarbara.org.uk/wp-content/uploads/2025/03/The-lamentations.jpg
END:VEVENT
BEGIN:VEVENT
DTSTART;VALUE=DATE:20260411
DTEND;VALUE=DATE:20260412
DTSTAMP:20260425T152128
CREATED:20260302T223454Z
LAST-MODIFIED:20260302T223454Z
UID:18484-1775865600-1775951999@www.stbarbara.org.uk
SUMMARY:Holy Saturday
DESCRIPTION:
URL:https://www.stbarbara.org.uk/event/holy-saturday/
LOCATION:Saint Barbara the Great Martyr Orthodox Church\, Chester\, CH4 7HW\, United Kingdom
CATEGORIES:Services
END:VEVENT
BEGIN:VEVENT
DTSTART;TZID=Europe/London:20260411T100000
DTEND;TZID=Europe/London:20260411T100000
DTSTAMP:20260425T152128
CREATED:20260302T223348Z
LAST-MODIFIED:20260302T223348Z
UID:18482-1775901600-1775901600@www.stbarbara.org.uk
SUMMARY:10:00 am\,  Vesperal Liturgy
DESCRIPTION:
URL:https://www.stbarbara.org.uk/event/1000-am-vesperal-liturgy/
LOCATION:Saint Barbara the Great Martyr Orthodox Church\, Chester\, CH4 7HW\, United Kingdom
CATEGORIES:Services
ATTACH;FMTTYPE=image/jpeg:https://www.stbarbara.org.uk/wp-content/uploads/2025/03/Holy-Saturday-Vesperal-Liturgy.jpg
END:VEVENT
BEGIN:VEVENT
DTSTART;TZID=Europe/London:20260411T110000
DTEND;TZID=Europe/London:20260411T110000
DTSTAMP:20260425T152128
CREATED:20260302T223654Z
LAST-MODIFIED:20260302T223654Z
UID:18486-1775905200-1775905200@www.stbarbara.org.uk
SUMMARY:11:00 am\, Resurrection Service
DESCRIPTION:
URL:https://www.stbarbara.org.uk/event/1100-am-resurrection-service/
LOCATION:Saint Barbara the Great Martyr Orthodox Church\, Chester\, CH4 7HW\, United Kingdom
CATEGORIES:Services
ATTACH;FMTTYPE=image/jpeg:https://www.stbarbara.org.uk/wp-content/uploads/2026/03/Resurrection-Service.jpg
END:VEVENT
BEGIN:VEVENT
DTSTART;TZID=Europe/London:20260412T000000
DTEND;TZID=Europe/London:20260412T000000
DTSTAMP:20260425T152128
CREATED:20260302T223955Z
LAST-MODIFIED:20260302T224022Z
UID:18489-1775952000-1775952000@www.stbarbara.org.uk
SUMMARY:12:00\, Midnight Paschal Matins and Divine Liturgy
DESCRIPTION:
URL:https://www.stbarbara.org.uk/event/1200-midnight-paschal-matins-and-divine-liturgy/
LOCATION:Saint Barbara the Great Martyr Orthodox Church\, Chester\, CH4 7HW\, United Kingdom
CATEGORIES:Services
ATTACH;FMTTYPE=image/webp:https://www.stbarbara.org.uk/wp-content/uploads/2026/03/Midnight-Paschal-Matins-and-Divine-Liturgy.Png.webp
END:VEVENT
BEGIN:VEVENT
DTSTART;VALUE=DATE:20260412
DTEND;VALUE=DATE:20260413
DTSTAMP:20260425T152128
CREATED:20260302T224123Z
LAST-MODIFIED:20260302T224123Z
UID:18492-1775952000-1776038399@www.stbarbara.org.uk
SUMMARY:Pascha
DESCRIPTION:
URL:https://www.stbarbara.org.uk/event/pascha/
LOCATION:Saint Barbara the Great Martyr Orthodox Church\, Chester\, CH4 7HW\, United Kingdom
CATEGORIES:Services
ATTACH;FMTTYPE=image/jpeg:https://www.stbarbara.org.uk/wp-content/uploads/2025/03/Holy-Pascha.jpg
END:VEVENT
BEGIN:VEVENT
DTSTART;TZID=Europe/London:20260412T123000
DTEND;TZID=Europe/London:20260412T123000
DTSTAMP:20260425T152128
CREATED:20260302T224402Z
LAST-MODIFIED:20260302T224402Z
UID:18494-1775997000-1775997000@www.stbarbara.org.uk
SUMMARY:12:30 pm\, Agape Vespers\, Vespers of love
DESCRIPTION:
URL:https://www.stbarbara.org.uk/event/1230-pm-agape-vespers-vespers-of-love/
LOCATION:Saint Barbara the Great Martyr Orthodox Church\, Chester\, CH4 7HW\, United Kingdom
CATEGORIES:Services
ATTACH;FMTTYPE=image/png:https://www.stbarbara.org.uk/wp-content/uploads/2026/03/Agape-Vespers-Vespers-of-love.png
END:VEVENT
BEGIN:VEVENT
DTSTART;TZID=Europe/London:20260417T100000
DTEND;TZID=Europe/London:20260417T100000
DTSTAMP:20260425T152128
CREATED:20260415T094237Z
LAST-MODIFIED:20260415T094237Z
UID:18509-1776420000-1776420000@www.stbarbara.org.uk
SUMMARY:10:00 am\, Matins\, Theotokos of the Life-Giving Spirit
DESCRIPTION:
URL:https://www.stbarbara.org.uk/event/1000-am-matins-theotokos-of-the-life-giving-spirit/
LOCATION:Saint Barbara the Great Martyr Orthodox Church\, Chester\, CH4 7HW\, United Kingdom
CATEGORIES:Services
ATTACH;FMTTYPE=image/jpeg:https://www.stbarbara.org.uk/wp-content/uploads/2026/04/Theotokos-of-the-Life-Givinf-Spirit.jpg
END:VEVENT
END:VCALENDAR