BEGIN:VCALENDAR
VERSION:2.0
PRODID:-//The Orthodox Christian Parish of St Barbara, Chester, UK - ECPv6.15.20//NONSGML v1.0//EN
CALSCALE:GREGORIAN
METHOD:PUBLISH
X-ORIGINAL-URL:https://www.stbarbara.org.uk
X-WR-CALDESC:Events for The Orthodox Christian Parish of St Barbara, Chester, UK
REFRESH-INTERVAL;VALUE=DURATION:PT1H
X-Robots-Tag:noindex
X-PUBLISHED-TTL:PT1H
BEGIN:VTIMEZONE
TZID:Europe/London
BEGIN:DAYLIGHT
TZOFFSETFROM:+0000
TZOFFSETTO:+0100
TZNAME:BST
DTSTART:20250330T010000
END:DAYLIGHT
BEGIN:STANDARD
TZOFFSETFROM:+0100
TZOFFSETTO:+0000
TZNAME:GMT
DTSTART:20251026T010000
END:STANDARD
BEGIN:DAYLIGHT
TZOFFSETFROM:+0000
TZOFFSETTO:+0100
TZNAME:BST
DTSTART:20260329T010000
END:DAYLIGHT
BEGIN:STANDARD
TZOFFSETFROM:+0100
TZOFFSETTO:+0000
TZNAME:GMT
DTSTART:20261025T010000
END:STANDARD
BEGIN:DAYLIGHT
TZOFFSETFROM:+0000
TZOFFSETTO:+0100
TZNAME:BST
DTSTART:20270328T010000
END:DAYLIGHT
BEGIN:STANDARD
TZOFFSETFROM:+0100
TZOFFSETTO:+0000
TZNAME:GMT
DTSTART:20271031T010000
END:STANDARD
END:VTIMEZONE
BEGIN:VEVENT
DTSTART;VALUE=DATE:20260404
DTEND;VALUE=DATE:20260405
DTSTAMP:20260424T164450
CREATED:20260302T221210Z
LAST-MODIFIED:20260302T221210Z
UID:18456-1775260800-1775347199@www.stbarbara.org.uk
SUMMARY:Lazarus Saturday
DESCRIPTION:
URL:https://www.stbarbara.org.uk/event/lazarus-saturday/
LOCATION:Saint Barbara the Great Martyr Orthodox Church\, Chester\, CH4 7HW\, United Kingdom
CATEGORIES:Services
END:VEVENT
BEGIN:VEVENT
DTSTART;TZID=Europe/London:20260404T100000
DTEND;TZID=Europe/London:20260404T100000
DTSTAMP:20260424T164450
CREATED:20260302T220010Z
LAST-MODIFIED:20260302T220010Z
UID:18438-1775296800-1775296800@www.stbarbara.org.uk
SUMMARY:10:00 am\, Matins\, Lazarus Saturday
DESCRIPTION:
URL:https://www.stbarbara.org.uk/event/1000-am-matins-lazarus-saturday/
LOCATION:Saint Barbara the Great Martyr Orthodox Church\, Chester\, CH4 7HW\, United Kingdom
CATEGORIES:Services
ATTACH;FMTTYPE=image/jpeg:https://www.stbarbara.org.uk/wp-content/uploads/2025/03/Lazarus-Saturday.jpg
END:VEVENT
BEGIN:VEVENT
DTSTART;TZID=Europe/London:20260404T110000
DTEND;TZID=Europe/London:20260404T110000
DTSTAMP:20260424T164450
CREATED:20260302T220103Z
LAST-MODIFIED:20260302T220103Z
UID:18440-1775300400-1775300400@www.stbarbara.org.uk
SUMMARY:11:00am\, Divine Liturgy
DESCRIPTION:
URL:https://www.stbarbara.org.uk/event/1100am-divine-liturgy-29/
LOCATION:Saint Barbara the Great Martyr Orthodox Church\, Chester\, CH4 7HW\, United Kingdom
CATEGORIES:Services
ATTACH;FMTTYPE=image/png:https://www.stbarbara.org.uk/wp-content/uploads/2024/11/Divine-Liturgy.png
END:VEVENT
END:VCALENDAR