BEGIN:VCALENDAR
VERSION:2.0
PRODID:-//The Orthodox Christian Parish of St Barbara, Chester, UK - ECPv6.15.20//NONSGML v1.0//EN
CALSCALE:GREGORIAN
METHOD:PUBLISH
X-WR-CALNAME:The Orthodox Christian Parish of St Barbara, Chester, UK
X-ORIGINAL-URL:https://www.stbarbara.org.uk
X-WR-CALDESC:Events for The Orthodox Christian Parish of St Barbara, Chester, UK
REFRESH-INTERVAL;VALUE=DURATION:PT1H
X-Robots-Tag:noindex
X-PUBLISHED-TTL:PT1H
BEGIN:VTIMEZONE
TZID:Europe/London
BEGIN:DAYLIGHT
TZOFFSETFROM:+0000
TZOFFSETTO:+0100
TZNAME:BST
DTSTART:20250330T010000
END:DAYLIGHT
BEGIN:STANDARD
TZOFFSETFROM:+0100
TZOFFSETTO:+0000
TZNAME:GMT
DTSTART:20251026T010000
END:STANDARD
BEGIN:DAYLIGHT
TZOFFSETFROM:+0000
TZOFFSETTO:+0100
TZNAME:BST
DTSTART:20260329T010000
END:DAYLIGHT
BEGIN:STANDARD
TZOFFSETFROM:+0100
TZOFFSETTO:+0000
TZNAME:GMT
DTSTART:20261025T010000
END:STANDARD
BEGIN:DAYLIGHT
TZOFFSETFROM:+0000
TZOFFSETTO:+0100
TZNAME:BST
DTSTART:20270328T010000
END:DAYLIGHT
BEGIN:STANDARD
TZOFFSETFROM:+0100
TZOFFSETTO:+0000
TZNAME:GMT
DTSTART:20271031T010000
END:STANDARD
END:VTIMEZONE
BEGIN:VEVENT
DTSTART;TZID=Europe/London:20260304T180000
DTEND;TZID=Europe/London:20260304T180000
DTSTAMP:20260425T010358
CREATED:20260302T212217Z
LAST-MODIFIED:20260302T212217Z
UID:18383-1772647200-1772647200@www.stbarbara.org.uk
SUMMARY:6:00 pm\, Pre-Sanctified Liturgy
DESCRIPTION:
URL:https://www.stbarbara.org.uk/event/600-pm-pre-sanctified-liturgy/
LOCATION:Saint Barbara the Great Martyr Orthodox Church\, Chester\, CH4 7HW\, United Kingdom
CATEGORIES:Services
ATTACH;FMTTYPE=image/jpeg:https://www.stbarbara.org.uk/wp-content/uploads/2025/02/Divine-Liturgy-of-the-Pre-sanctified-Gifts.jpg
END:VEVENT
END:VCALENDAR