BEGIN:VCALENDAR
VERSION:2.0
PRODID:-//The Orthodox Christian Parish of St Barbara, Chester, UK - ECPv6.15.20//NONSGML v1.0//EN
CALSCALE:GREGORIAN
METHOD:PUBLISH
X-WR-CALNAME:The Orthodox Christian Parish of St Barbara, Chester, UK
X-ORIGINAL-URL:https://www.stbarbara.org.uk
X-WR-CALDESC:Events for The Orthodox Christian Parish of St Barbara, Chester, UK
REFRESH-INTERVAL;VALUE=DURATION:PT1H
X-Robots-Tag:noindex
X-PUBLISHED-TTL:PT1H
BEGIN:VTIMEZONE
TZID:Europe/London
BEGIN:DAYLIGHT
TZOFFSETFROM:+0000
TZOFFSETTO:+0100
TZNAME:BST
DTSTART:20250330T010000
END:DAYLIGHT
BEGIN:STANDARD
TZOFFSETFROM:+0100
TZOFFSETTO:+0000
TZNAME:GMT
DTSTART:20251026T010000
END:STANDARD
BEGIN:DAYLIGHT
TZOFFSETFROM:+0000
TZOFFSETTO:+0100
TZNAME:BST
DTSTART:20260329T010000
END:DAYLIGHT
BEGIN:STANDARD
TZOFFSETFROM:+0100
TZOFFSETTO:+0000
TZNAME:GMT
DTSTART:20261025T010000
END:STANDARD
BEGIN:DAYLIGHT
TZOFFSETFROM:+0000
TZOFFSETTO:+0100
TZNAME:BST
DTSTART:20270328T010000
END:DAYLIGHT
BEGIN:STANDARD
TZOFFSETFROM:+0100
TZOFFSETTO:+0000
TZNAME:GMT
DTSTART:20271031T010000
END:STANDARD
END:VTIMEZONE
BEGIN:VEVENT
DTSTART;TZID=Europe/London:20260506T183000
DTEND;TZID=Europe/London:20260506T183000
DTSTAMP:20260424T220954
CREATED:20260415T105934Z
LAST-MODIFIED:20260415T105934Z
UID:18545-1778092200-1778092200@www.stbarbara.org.uk
SUMMARY:6:30pm\, Vespers\, Appearance of the sign of the Cross
DESCRIPTION:
URL:https://www.stbarbara.org.uk/event/630pm-vespers-appearance-of-the-sign-of-the-cross/
LOCATION:Saint Barbara the Great Martyr Orthodox Church\, Chester\, CH4 7HW\, United Kingdom
CATEGORIES:Services
ATTACH;FMTTYPE=image/png:https://www.stbarbara.org.uk/wp-content/uploads/2026/04/Sign-of-the-Cross.png
END:VEVENT
BEGIN:VEVENT
DTSTART;TZID=Europe/London:20260506T191500
DTEND;TZID=Europe/London:20260506T191500
DTSTAMP:20260424T220954
CREATED:20260415T131419Z
LAST-MODIFIED:20260415T131419Z
UID:18548-1778094900-1778094900@www.stbarbara.org.uk
SUMMARY:7:15pm\, Catechesis\, All are welcome!
DESCRIPTION:
URL:https://www.stbarbara.org.uk/event/715pm-catechesis-all-are-welcome/
LOCATION:Saint Barbara the Great Martyr Orthodox Church\, Chester\, CH4 7HW\, United Kingdom
CATEGORIES:Services
ATTACH;FMTTYPE=image/jpeg:https://www.stbarbara.org.uk/wp-content/uploads/2024/12/Catechism.jpg
END:VEVENT
END:VCALENDAR