BEGIN:VCALENDAR
VERSION:2.0
PRODID:-//The Orthodox Christian Parish of St Barbara, Chester, UK - ECPv6.15.20//NONSGML v1.0//EN
CALSCALE:GREGORIAN
METHOD:PUBLISH
X-WR-CALNAME:The Orthodox Christian Parish of St Barbara, Chester, UK
X-ORIGINAL-URL:https://www.stbarbara.org.uk
X-WR-CALDESC:Events for The Orthodox Christian Parish of St Barbara, Chester, UK
REFRESH-INTERVAL;VALUE=DURATION:PT1H
X-Robots-Tag:noindex
X-PUBLISHED-TTL:PT1H
BEGIN:VTIMEZONE
TZID:Europe/London
BEGIN:DAYLIGHT
TZOFFSETFROM:+0000
TZOFFSETTO:+0100
TZNAME:BST
DTSTART:20250330T010000
END:DAYLIGHT
BEGIN:STANDARD
TZOFFSETFROM:+0100
TZOFFSETTO:+0000
TZNAME:GMT
DTSTART:20251026T010000
END:STANDARD
BEGIN:DAYLIGHT
TZOFFSETFROM:+0000
TZOFFSETTO:+0100
TZNAME:BST
DTSTART:20260329T010000
END:DAYLIGHT
BEGIN:STANDARD
TZOFFSETFROM:+0100
TZOFFSETTO:+0000
TZNAME:GMT
DTSTART:20261025T010000
END:STANDARD
BEGIN:DAYLIGHT
TZOFFSETFROM:+0000
TZOFFSETTO:+0100
TZNAME:BST
DTSTART:20270328T010000
END:DAYLIGHT
BEGIN:STANDARD
TZOFFSETFROM:+0100
TZOFFSETTO:+0000
TZNAME:GMT
DTSTART:20271031T010000
END:STANDARD
END:VTIMEZONE
BEGIN:VEVENT
DTSTART;TZID=Europe/London:20260327T180000
DTEND;TZID=Europe/London:20260327T180000
DTSTAMP:20260424T203901
CREATED:20260302T215125Z
LAST-MODIFIED:20260302T215125Z
UID:18425-1774634400-1774634400@www.stbarbara.org.uk
SUMMARY:6:00 pm\, Pre-Sanctified Liturgy
DESCRIPTION:
URL:https://www.stbarbara.org.uk/event/600-pm-pre-sanctified-liturgy-7/
LOCATION:Saint Barbara the Great Martyr Orthodox Church\, Chester\, CH4 7HW\, United Kingdom
CATEGORIES:Services
ATTACH;FMTTYPE=image/jpeg:https://www.stbarbara.org.uk/wp-content/uploads/2025/02/Divine-Liturgy-of-the-Pre-sanctified-Gifts.jpg
END:VEVENT
BEGIN:VEVENT
DTSTART;TZID=Europe/London:20260327T191500
DTEND;TZID=Europe/London:20260327T191500
DTSTAMP:20260424T203901
CREATED:20260302T215227Z
LAST-MODIFIED:20260302T215227Z
UID:18428-1774638900-1774638900@www.stbarbara.org.uk
SUMMARY:7:15 pm\, Akathist of The Theotokos
DESCRIPTION:
URL:https://www.stbarbara.org.uk/event/715-pm-akathist-of-the-theotokos/
LOCATION:Saint Barbara the Great Martyr Orthodox Church\, Chester\, CH4 7HW\, United Kingdom
CATEGORIES:Services
ATTACH;FMTTYPE=image/jpeg:https://www.stbarbara.org.uk/wp-content/uploads/2025/02/Akathist-of-Theotokos.jpg
END:VEVENT
END:VCALENDAR