BEGIN:VCALENDAR
VERSION:2.0
PRODID:-//The Orthodox Christian Parish of St Barbara, Chester, UK - ECPv6.15.20//NONSGML v1.0//EN
CALSCALE:GREGORIAN
METHOD:PUBLISH
X-WR-CALNAME:The Orthodox Christian Parish of St Barbara, Chester, UK
X-ORIGINAL-URL:https://www.stbarbara.org.uk
X-WR-CALDESC:Events for The Orthodox Christian Parish of St Barbara, Chester, UK
REFRESH-INTERVAL;VALUE=DURATION:PT1H
X-Robots-Tag:noindex
X-PUBLISHED-TTL:PT1H
BEGIN:VTIMEZONE
TZID:Europe/London
BEGIN:DAYLIGHT
TZOFFSETFROM:+0000
TZOFFSETTO:+0100
TZNAME:BST
DTSTART:20250330T010000
END:DAYLIGHT
BEGIN:STANDARD
TZOFFSETFROM:+0100
TZOFFSETTO:+0000
TZNAME:GMT
DTSTART:20251026T010000
END:STANDARD
BEGIN:DAYLIGHT
TZOFFSETFROM:+0000
TZOFFSETTO:+0100
TZNAME:BST
DTSTART:20260329T010000
END:DAYLIGHT
BEGIN:STANDARD
TZOFFSETFROM:+0100
TZOFFSETTO:+0000
TZNAME:GMT
DTSTART:20261025T010000
END:STANDARD
BEGIN:DAYLIGHT
TZOFFSETFROM:+0000
TZOFFSETTO:+0100
TZNAME:BST
DTSTART:20270328T010000
END:DAYLIGHT
BEGIN:STANDARD
TZOFFSETFROM:+0100
TZOFFSETTO:+0000
TZNAME:GMT
DTSTART:20271031T010000
END:STANDARD
END:VTIMEZONE
BEGIN:VEVENT
DTSTART;TZID=Europe/London:20260325T080000
DTEND;TZID=Europe/London:20260325T080000
DTSTAMP:20260424T233306
CREATED:20260302T214757Z
LAST-MODIFIED:20260302T214757Z
UID:18419-1774425600-1774425600@www.stbarbara.org.uk
SUMMARY:8:00 am\, Matins\, Annunciation of The Theotokos
DESCRIPTION:
URL:https://www.stbarbara.org.uk/event/800-am-matins-annunciation-of-the-theotokos/
LOCATION:Saint Barbara the Great Martyr Orthodox Church\, Chester\, CH4 7HW\, United Kingdom
CATEGORIES:Services
ATTACH;FMTTYPE=image/jpeg:https://www.stbarbara.org.uk/wp-content/uploads/2025/02/Annunciation-of-The-Theotokos.jpg
END:VEVENT
BEGIN:VEVENT
DTSTART;TZID=Europe/London:20260325T090000
DTEND;TZID=Europe/London:20260325T090000
DTSTAMP:20260424T233306
CREATED:20260302T214855Z
LAST-MODIFIED:20260302T214855Z
UID:18421-1774429200-1774429200@www.stbarbara.org.uk
SUMMARY:9:00am\, Divine Liturgy
DESCRIPTION:
URL:https://www.stbarbara.org.uk/event/900am-divine-liturgy-5/
LOCATION:Saint Barbara the Great Martyr Orthodox Church\, Chester\, CH4 7HW\, United Kingdom
CATEGORIES:Services
ATTACH;FMTTYPE=image/png:https://www.stbarbara.org.uk/wp-content/uploads/2024/11/Divine-Liturgy.png
END:VEVENT
END:VCALENDAR